BEGIN:VCALENDAR
VERSION:2.0
PRODID:-//Fundación Sirenaica - ECPv6.15.18//NONSGML v1.0//EN
CALSCALE:GREGORIAN
METHOD:PUBLISH
X-ORIGINAL-URL:https://fundacionsirenaica.org/home
X-WR-CALDESC:Eventos para Fundación Sirenaica
REFRESH-INTERVAL;VALUE=DURATION:PT1H
X-Robots-Tag:noindex
X-PUBLISHED-TTL:PT1H
BEGIN:VTIMEZONE
TZID:America/Bogota
BEGIN:STANDARD
TZOFFSETFROM:-0500
TZOFFSETTO:-0500
TZNAME:-05
DTSTART:20200101T000000
END:STANDARD
END:VTIMEZONE
BEGIN:VEVENT
DTSTART;TZID=America/Bogota:20210527T190000
DTEND;TZID=America/Bogota:20210527T200000
DTSTAMP:20260425T165824
CREATED:20210524T210333Z
LAST-MODIFIED:20210524T210453Z
UID:8805-1622142000-1622145600@fundacionsirenaica.org
SUMMARY:CANTARTE
DESCRIPTION:¡Volvamos al café\, al encuentro\, al canto y la poesía!
URL:https://fundacionsirenaica.org/home/evento/cantarte/
LOCATION:Café Teatro Pablo Tobón\, Medellín\, Colombia
END:VEVENT
END:VCALENDAR